BEGIN:VCALENDAR
VERSION:2.0
PRODID:-//Марина Травина - ECPv5.16.4//NONSGML v1.0//EN
CALSCALE:GREGORIAN
METHOD:PUBLISH
X-WR-CALNAME:Марина Травина
X-ORIGINAL-URL:http://tvtmarina.ru
X-WR-CALDESC:Мероприятия для Марина Травина
BEGIN:VTIMEZONE
TZID:Europe/Moscow
BEGIN:STANDARD
TZOFFSETFROM:+0300
TZOFFSETTO:+0300
TZNAME:MSK
DTSTART:20210101T000000
END:STANDARD
END:VTIMEZONE
BEGIN:VEVENT
DTSTART;TZID=Europe/Moscow:20210320T100000
DTEND;TZID=Europe/Moscow:20210320T170000
DTSTAMP:20260420T215841
CREATED:20210119T072328Z
LAST-MODIFIED:20210302T095313Z
UID:814-1616234400-1616259600@tvtmarina.ru
SUMMARY:ВЕЛИКИЙ НОВГОРОД\, ПСКОВ 20.03.21 "Маммология от А до Я. Часть I"
DESCRIPTION:Уважаемые коллеги! \nДля участия в мероприятии необходимо зарегистрироваться по ссылке: https://events.webinar.ru/13036573/7220465\, указав следующие данные: \n\nФИО\nРегион/город\nМесто работы\nЭлектронный адрес\nНомер телефона\n\nУчет участников осуществляется с помощью индивидуальной регистрации на интернет-сессию и контроля подключения по IP адресу. Контроль присутствия будут обеспечивать интерактивные опросы через разные временные интервалы. \nВход на трансляцию осуществляется не ранее\, чем за 2 часа до ее начала. При завершении трансляции\, сеанс у всех присутствующих прекращается. \nИнструментами обратной связи являются «Чат трансляции» и бесплатная горячая линия +7 (800) 350-54-90 (указан на сайте). \nЗа посещение нашего мастер-класса вам будут начислены баллы НМО! \nУчастниками мероприятия будут признаны слушатели\, присутствующие на мероприятии 20 марта 2021 г. (1 день) — не менее 270 минут на трансляции для программы НМО и подтвердившие четыре контроля присутствия из шести. Участникам\, выполнившим все условия участия в мероприятии\, выдаются индивидуальные коды \nМероприятие бесплатное! \nПрограмма мероприятия
URL:http://tvtmarina.ru/event/%d0%b2%d0%b5%d0%bb%d0%b8%d0%ba%d0%b8%d0%b9-%d0%bd%d0%be%d0%b2%d0%b3%d0%be%d1%80%d0%be%d0%b4-%d0%bf%d1%81%d0%ba%d0%be%d0%b2-20-03-21-%d0%bc%d0%b0%d0%bc%d0%bc%d0%be%d0%bb%d0%be%d0%b3%d0%b8%d1%8f/
END:VEVENT
END:VCALENDAR